BEGIN:VCALENDAR
VERSION:2.0
PRODID:-//Steveston Heritage Sites - ECPv6.0.1.1//NONSGML v1.0//EN
CALSCALE:GREGORIAN
METHOD:PUBLISH
X-WR-CALNAME:Steveston Heritage Sites
X-ORIGINAL-URL:https://staging.stevestonheritage.ca
X-WR-CALDESC:Events for Steveston Heritage Sites
REFRESH-INTERVAL;VALUE=DURATION:PT1H
X-Robots-Tag:noindex
X-PUBLISHED-TTL:PT1H
BEGIN:VTIMEZONE
TZID:UTC
BEGIN:STANDARD
TZOFFSETFROM:+0000
TZOFFSETTO:+0000
TZNAME:UTC
DTSTART:20230101T000000
END:STANDARD
END:VTIMEZONE
BEGIN:VEVENT
DTSTART;TZID=UTC:20230826T110000
DTEND;TZID=UTC:20230827T180000
DTSTAMP:20260420T224137
CREATED:20220914T000257Z
LAST-MODIFIED:20221021T002702Z
UID:421-1693047600-1693159200@staging.stevestonheritage.ca
SUMMARY:Richmond Maritime Festival
DESCRIPTION:The annual Richmond Maritime Festival celebrates life past and present on the Steveston waterfront. Landlubbers and nautical buffs alike will find this family-friendly event awash with fun. Enjoy  maritime-themed music\, performances\, activities\, and exhibits for a magical weekend at the Britannia Shipyards National Historic Site. 
URL:https://staging.stevestonheritage.ca/event/richmond-maritime-festival/
LOCATION:Britannia Shipyards National Historic Site\, 5180 Westwater Drive\, Richmond\, BC\, V7E6P3\, Canada
ATTACH;FMTTYPE=image/jpeg:/app/uploads/2022/09/IMG_1921-scaled-e1663113704244.jpg
END:VEVENT
END:VCALENDAR