BEGIN:VCALENDAR
VERSION:2.0
PRODID:-//Steveston Heritage Sites - ECPv6.0.1.1//NONSGML v1.0//EN
CALSCALE:GREGORIAN
METHOD:PUBLISH
X-WR-CALNAME:Steveston Heritage Sites
X-ORIGINAL-URL:https://staging.stevestonheritage.ca
X-WR-CALDESC:Events for Steveston Heritage Sites
REFRESH-INTERVAL;VALUE=DURATION:PT1H
X-Robots-Tag:noindex
X-PUBLISHED-TTL:PT1H
BEGIN:VTIMEZONE
TZID:America/Vancouver
BEGIN:DAYLIGHT
TZOFFSETFROM:-0800
TZOFFSETTO:-0700
TZNAME:PDT
DTSTART:20230312T100000
END:DAYLIGHT
BEGIN:STANDARD
TZOFFSETFROM:-0700
TZOFFSETTO:-0800
TZNAME:PST
DTSTART:20231105T090000
END:STANDARD
TZID:UTC
BEGIN:STANDARD
TZOFFSETFROM:+0000
TZOFFSETTO:+0000
TZNAME:UTC
DTSTART:20230101T000000
END:STANDARD
END:VTIMEZONE
BEGIN:VEVENT
DTSTART;TZID=America/Vancouver:20230513T100000
DTEND;TZID=America/Vancouver:20230514T170000
DTSTAMP:20260420T204746
CREATED:20221028T181752Z
LAST-MODIFIED:20221028T181752Z
UID:912-1683972000-1684083600@staging.stevestonheritage.ca
SUMMARY:Annual Plant Sale
DESCRIPTION:London Farm’s Annual Plant Sale features a selection of annuals\, perennials and succulents in a variety of planters and containers. Check back for more details.
URL:https://staging.stevestonheritage.ca/event/annual-plant-sale/
LOCATION:London Farm\, 6511 Dyke Road\, Richmond\, BC\, V7E 3R3\, Canada
ATTACH;FMTTYPE=image/jpeg:/app/uploads/2022/10/Copy-of-RAF_2256-scaled-e1665524706358.jpg
END:VEVENT
BEGIN:VEVENT
DTSTART;TZID=America/Vancouver:20230701T100000
DTEND;TZID=America/Vancouver:20230701T160000
DTSTAMP:20260420T204746
CREATED:20221021T004108Z
LAST-MODIFIED:20221021T004108Z
UID:824-1688205600-1688227200@staging.stevestonheritage.ca
SUMMARY:Steveston Salmon Festival
DESCRIPTION:The annual Steveston Salmon Festival is Richmond’s largest event\, drawing tens of thousands of visitors to the community every July 1st. Enjoy the Salmon Festival parade\, musical entertainment\, historical and cultural programs and displays\, and lots of food to enjoy\, including the famous salmon BBQ and festival chow mein.
URL:https://staging.stevestonheritage.ca/event/steveston-salmon-festival/
LOCATION:Steveston Community Centre\, 4111 Moncton Street\, Richmond\, British Columbia\, V7E 3A8
ATTACH;FMTTYPE=image/jpeg:/app/uploads/2022/10/DSC_0029-21-scaled-e1666312858744.jpg
END:VEVENT
BEGIN:VEVENT
DTSTART;TZID=UTC:20230722T110000
DTEND;TZID=UTC:20230723T170000
DTSTAMP:20260420T204746
CREATED:20220914T005923Z
LAST-MODIFIED:20221210T005822Z
UID:426-1690023600-1690131600@staging.stevestonheritage.ca
SUMMARY:Grand Prix of Art
DESCRIPTION:Watch over one-hundred plein air artists stationed throughout Steveston from London Farm to Garry Point Park\, in a time-limited creative competition to capture the scenic beauty of the historic fishing village. Visitors may see and purchase their creations on display in the Seine Net Loft on the second day of the event. For more information on how to participate in this annual event\, visit the Grand Prix of Art website. 
URL:https://staging.stevestonheritage.ca/event/grand-prix-of-art/
LOCATION:Britannia Shipyards National Historic Site\, 5180 Westwater Drive\, Richmond\, BC\, V7E6P3\, Canada
ATTACH;FMTTYPE=image/jpeg:/app/uploads/2022/09/Grand-Prix-of-Art-2022-scaled-e1664325156558.jpg
END:VEVENT
BEGIN:VEVENT
DTSTART;TZID=UTC:20230826T110000
DTEND;TZID=UTC:20230827T180000
DTSTAMP:20260420T204746
CREATED:20220914T000257Z
LAST-MODIFIED:20221021T002702Z
UID:421-1693047600-1693159200@staging.stevestonheritage.ca
SUMMARY:Richmond Maritime Festival
DESCRIPTION:The annual Richmond Maritime Festival celebrates life past and present on the Steveston waterfront. Landlubbers and nautical buffs alike will find this family-friendly event awash with fun. Enjoy  maritime-themed music\, performances\, activities\, and exhibits for a magical weekend at the Britannia Shipyards National Historic Site. 
URL:https://staging.stevestonheritage.ca/event/richmond-maritime-festival/
LOCATION:Britannia Shipyards National Historic Site\, 5180 Westwater Drive\, Richmond\, BC\, V7E6P3\, Canada
ATTACH;FMTTYPE=image/jpeg:/app/uploads/2022/09/IMG_1921-scaled-e1663113704244.jpg
END:VEVENT
END:VCALENDAR